BEGIN:VCALENDAR
VERSION:2.0
PRODID:-//eventon.com NONSGML v1.0//EN
CALSCALE:GREGORIAN
METHOD:PUBLISH
BEGIN:VEVENT
UID:69eb9b04a1303
DTSTAMP:20260424T163204Z
DTSTART:20220323T230000Z
DTEND:20220324T025900Z
LOCATION:
SUMMARY:Quarta Exxxtra - estreia
DESCRIPTION:Tem novidade na programaÃ§Ã£o da Hot House\,  nessa quarta feir
 a\,  a casa abre as portas para a Quarta Exxxtra\,  uma noite com a presenÃ
 §a de Top Strippers\,  promoÃ§Ãµes\,  sorteios e muitas novidades. http://h
 othousesp.com.br/wp-content/uploads/2022/03/0005.mp4\nhttps://hothousesp.co
 m.br/events/quarta-exxxtra-estreia/
URL:https://hothousesp.com.br/events/quarta-exxxtra-estreia/
END:VEVENT
END:VCALENDAR