BEGIN:VCALENDAR
VERSION:2.0
PRODID:-//eventon.com NONSGML v1.0//EN
CALSCALE:GREGORIAN
METHOD:PUBLISH
BEGIN:VEVENT
UID:69eb9b043a634
DTSTAMP:20260424T163204Z
DTSTART:20220324T230000Z
DTEND:20220325T025900Z
LOCATION:
SUMMARY:Quinta Hot - Especial Bruno Camargo
DESCRIPTION:O bombeiro do sbt\,  Bruno Camargo é o destaque da edição es
 pecial da Quinta Hot.\nhttps://hothousesp.com.br/events/quinta-hot-especial
 -bruno-camargo/
URL:https://hothousesp.com.br/events/quinta-hot-especial-bruno-camargo/
END:VEVENT
END:VCALENDAR