BEGIN:VCALENDAR
VERSION:2.0
PRODID:-//eventon.com NONSGML v1.0//EN
CALSCALE:GREGORIAN
METHOD:PUBLISH
BEGIN:VEVENT
UID:69eba0f5839ac
DTSTAMP:20260424T165725Z
DTSTART:20220326T000000Z
DTEND:20220326T051500Z
LOCATION:
SUMMARY:Shine  - Uma noite para Brilhar
DESCRIPTION:Sob o comando de Kylie Hickmann\,  a festa Shine promete agitar
  a programação das sexta-feira.\nhttps://hothousesp.com.br/events/shine-u
 ma-noite-para-brilhar/
URL:https://hothousesp.com.br/events/shine-uma-noite-para-brilhar/
END:VEVENT
END:VCALENDAR