BEGIN:VCALENDAR
VERSION:2.0
PRODID:-//eventon.com NONSGML v1.0//EN
CALSCALE:GREGORIAN
METHOD:PUBLISH
BEGIN:VEVENT
UID:69eba06ab65a2
DTSTAMP:20260424T165506Z
DTSTART:20220326T230000Z
DTEND:20220327T060100Z
LOCATION:
SUMMARY:Pornstar - Especial Minotauro
DESCRIPTION:Sexo ao vivo e interativo com a presença de Minotauro e convid
 ados.\nhttps://hothousesp.com.br/events/pornstar-especial-minotauro/
URL:https://hothousesp.com.br/events/pornstar-especial-minotauro/
END:VEVENT
END:VCALENDAR