BEGIN:VCALENDAR
VERSION:2.0
PRODID:-//eventon.com NONSGML v1.0//EN
CALSCALE:GREGORIAN
METHOD:PUBLISH
BEGIN:VEVENT
UID:69e88903d12a0
DTSTAMP:20260422T083827Z
DTSTART:20241101T220000Z
DTEND:20241102T160000Z
LOCATION:
SUMMARY:SEXTA HOT - HALLOWEEN
DESCRIPTION:\nhttps://hothousesp.com.br/events/sexta-hot-halloween/
URL:https://hothousesp.com.br/events/sexta-hot-halloween/
END:VEVENT
END:VCALENDAR