BEGIN:VCALENDAR
VERSION:2.0
PRODID:-//eventon.com NONSGML v1.0//EN
CALSCALE:GREGORIAN
METHOD:PUBLISH
BEGIN:VEVENT
UID:69e620278c438
DTSTAMP:20260420T124631Z
DTSTART:20241115T220000Z
DTEND:20241116T160900Z
LOCATION:
SUMMARY:SEXTA HOT
DESCRIPTION:\nhttps://hothousesp.com.br/events/sexta-hot/
URL:https://hothousesp.com.br/events/sexta-hot/
END:VEVENT
END:VCALENDAR