BEGIN:VCALENDAR
VERSION:2.0
PRODID:-//eventon.com NONSGML v1.0//EN
CALSCALE:GREGORIAN
METHOD:PUBLISH
BEGIN:VEVENT
UID:69e7381372774
DTSTAMP:20260421T084051Z
DTSTART:20241213T220000Z
DTEND:20241214T160000Z
LOCATION:
SUMMARY:SEXTA HOT
DESCRIPTION:\nhttps://hothousesp.com.br/events/sexta-hot-2/
URL:https://hothousesp.com.br/events/sexta-hot-2/
END:VEVENT
END:VCALENDAR