BEGIN:VCALENDAR
VERSION:2.0
PRODID:-//eventon.com NONSGML v1.0//EN
CALSCALE:GREGORIAN
METHOD:PUBLISH
BEGIN:VEVENT
UID:69e5e4a644ce3
DTSTAMP:20260420T083238Z
DTSTART:20250125T220000Z
DTEND:20250126T040000Z
LOCATION:
SUMMARY:SABADO NA HOT
DESCRIPTION:\nhttps://hothousesp.com.br/events/sabado-na-hot-19/
URL:https://hothousesp.com.br/events/sabado-na-hot-19/
END:VEVENT
END:VCALENDAR