BEGIN:VCALENDAR
VERSION:2.0
PRODID:-//eventon.com NONSGML v1.0//EN
CALSCALE:GREGORIAN
METHOD:PUBLISH
BEGIN:VEVENT
UID:69e738b15ab98
DTSTAMP:20260421T084329Z
DTSTART:20250313T220000Z
DTEND:20250314T012600Z
LOCATION:
SUMMARY:QUINTA HOT
DESCRIPTION:\nhttps://hothousesp.com.br/events/quinta-hot-30/
URL:https://hothousesp.com.br/events/quinta-hot-30/
END:VEVENT
END:VCALENDAR