BEGIN:VCALENDAR
VERSION:2.0
PRODID:-//eventon.com NONSGML v1.0//EN
CALSCALE:GREGORIAN
METHOD:PUBLISH
BEGIN:VEVENT
UID:69e5e772b1333
DTSTAMP:20260420T084434Z
DTSTART:20250425T220000Z
DTEND:20250426T040000Z
LOCATION:
SUMMARY:SEXTA NA HOT
DESCRIPTION:\nhttps://hothousesp.com.br/events/sexta-na-hot-17/
URL:https://hothousesp.com.br/events/sexta-na-hot-17/
END:VEVENT
END:VCALENDAR