BEGIN:VCALENDAR
VERSION:2.0
PRODID:-//eventon.com NONSGML v1.0//EN
CALSCALE:GREGORIAN
METHOD:PUBLISH
BEGIN:VEVENT
UID:69e5e7cbaa6a0
DTSTAMP:20260420T084603Z
DTSTART:20250503T220000Z
DTEND:20250504T160400Z
LOCATION:
SUMMARY:SABADO NA HOT
DESCRIPTION:\nhttps://hothousesp.com.br/events/sabado-na-hot-26/
URL:https://hothousesp.com.br/events/sabado-na-hot-26/
END:VEVENT
END:VCALENDAR