BEGIN:VCALENDAR
VERSION:2.0
PRODID:-//eventon.com NONSGML v1.0//EN
CALSCALE:GREGORIAN
METHOD:PUBLISH
BEGIN:VEVENT
UID:69e73bfb89c0a
DTSTAMP:20260421T085731Z
DTSTART:20250515T220000Z
DTEND:20250516T020000Z
LOCATION:
SUMMARY:QUINTA HOT
DESCRIPTION:\nhttps://hothousesp.com.br/events/quinta-hot-37/
URL:https://hothousesp.com.br/events/quinta-hot-37/
END:VEVENT
END:VCALENDAR