BEGIN:VCALENDAR
VERSION:2.0
PRODID:-//eventon.com NONSGML v1.0//EN
CALSCALE:GREGORIAN
METHOD:PUBLISH
BEGIN:VEVENT
UID:69e889c5d12a5
DTSTAMP:20260422T084141Z
DTSTART:20250711T220000Z
DTEND:20250712T160000Z
LOCATION:
SUMMARY:SEXTA NA HOT
DESCRIPTION:\nhttps://hothousesp.com.br/events/sexta-na-hot-27/
URL:https://hothousesp.com.br/events/sexta-na-hot-27/
END:VEVENT
END:VCALENDAR