BEGIN:VCALENDAR
VERSION:2.0
PRODID:-//eventon.com NONSGML v1.0//EN
CALSCALE:GREGORIAN
METHOD:PUBLISH
BEGIN:VEVENT
UID:69e73974136f4
DTSTAMP:20260421T084644Z
DTSTART:20250720T220000Z
DTEND:20250721T011100Z
LOCATION:
SUMMARY:DOMINGO NA HOT - Especial Aniversário do Emerson
DESCRIPTION:\nhttps://hothousesp.com.br/events/domingo-na-hot-especial-aniv
 ersario-do-emerson/
URL:https://hothousesp.com.br/events/domingo-na-hot-especial-aniversario-do-emerson/
END:VEVENT
END:VCALENDAR