BEGIN:VCALENDAR
VERSION:2.0
PRODID:-//eventon.com NONSGML v1.0//EN
CALSCALE:GREGORIAN
METHOD:PUBLISH
BEGIN:VEVENT
UID:69e73ffe7416a
DTSTAMP:20260421T091438Z
DTSTART:20251121T220000Z
DTEND:20251122T160500Z
LOCATION:
SUMMARY:SEXTA NA HOT
DESCRIPTION:\nhttps://hothousesp.com.br/events/sexta-na-hot-42/
URL:https://hothousesp.com.br/events/sexta-na-hot-42/
END:VEVENT
END:VCALENDAR