BEGIN:VCALENDAR
VERSION:2.0
PRODID:-//eventon.com NONSGML v1.0//EN
CALSCALE:GREGORIAN
METHOD:PUBLISH
BEGIN:VEVENT
UID:69e5fdf66bd4b
DTSTAMP:20260420T102038Z
DTSTART:20260217T220000Z
DTEND:20260217T042900Z
LOCATION:
SUMMARY:FOLIA HOT - TERÇA-FEIRA
DESCRIPTION:\nhttps://hothousesp.com.br/events/folia-hot-terca-feira-2/
URL:https://hothousesp.com.br/events/folia-hot-terca-feira-2/
END:VEVENT
END:VCALENDAR