BEGIN:VCALENDAR
VERSION:2.0
PRODID:-//eventon.com NONSGML v1.0//EN
CALSCALE:GREGORIAN
METHOD:PUBLISH
BEGIN:VEVENT
UID:69e73b49e6b3a
DTSTAMP:20260421T085433Z
DTSTART:20260305T220000Z
DTEND:20260306T140500Z
LOCATION:
SUMMARY:QUINTA HOT
DESCRIPTION:\nhttps://hothousesp.com.br/events/quinta-hot-69/
URL:https://hothousesp.com.br/events/quinta-hot-69/
END:VEVENT
END:VCALENDAR