BEGIN:VCALENDAR
VERSION:2.0
PRODID:-//eventon.com NONSGML v1.0//EN
CALSCALE:GREGORIAN
METHOD:PUBLISH
BEGIN:VEVENT
UID:69e73a5ab0883
DTSTAMP:20260421T085034Z
DTSTART:20260306T220000Z
DTEND:20260307T042900Z
LOCATION:
SUMMARY:SEXTA NA HOT
DESCRIPTION:\nhttps://hothousesp.com.br/events/sexta-na-hot-52/
URL:https://hothousesp.com.br/events/sexta-na-hot-52/
END:VEVENT
END:VCALENDAR