BEGIN:VCALENDAR
VERSION:2.0
PRODID:-//eventon.com NONSGML v1.0//EN
CALSCALE:GREGORIAN
METHOD:PUBLISH
BEGIN:VEVENT
UID:69e539eee732b
DTSTAMP:20260419T202414Z
DTSTART:20260418T220000Z
DTEND:20260419T043000Z
LOCATION:
SUMMARY:SABADO NA HOT
DESCRIPTION:\nhttps://hothousesp.com.br/events/sabado-na-hot-52/
URL:https://hothousesp.com.br/events/sabado-na-hot-52/
END:VEVENT
END:VCALENDAR