BEGIN:VCALENDAR
VERSION:2.0
PRODID:-//eventon.com NONSGML v1.0//EN
CALSCALE:GREGORIAN
METHOD:PUBLISH
BEGIN:VEVENT
UID:69e3d0aac7655
DTSTAMP:20260418T184250Z
DTSTART:20260420T220000Z
DTEND:20260421T043000Z
LOCATION:
SUMMARY:ESPECIAL IMPERIO HOT - FERIADO NA HOT
DESCRIPTION:\nhttps://hothousesp.com.br/events/especial-imperio-hot-feriado
 -na-hot/
URL:https://hothousesp.com.br/events/especial-imperio-hot-feriado-na-hot/
END:VEVENT
END:VCALENDAR