BEGIN:VCALENDAR
VERSION:2.0
PRODID:-//eventon.com NONSGML v1.0//EN
CALSCALE:GREGORIAN
METHOD:PUBLISH
BEGIN:VEVENT
UID:69e9f1df47119
DTSTAMP:20260423T101807Z
DTSTART:20260424T220000Z
DTEND:20260425T043200Z
LOCATION:
SUMMARY:MUSCLE BOYS - SEXTA NA HOT
DESCRIPTION:\nhttps://hothousesp.com.br/events/muscle-boys-sexta-na-hot/
URL:https://hothousesp.com.br/events/muscle-boys-sexta-na-hot/
END:VEVENT
END:VCALENDAR