BEGIN:VCALENDAR
VERSION:2.0
PRODID:-//eventon.com NONSGML v1.0//EN
CALSCALE:GREGORIAN
METHOD:PUBLISH
BEGIN:VEVENT
UID:69ebd92bdad2e
DTSTAMP:20260424T205715Z
DTSTART:20260425T220000Z
DTEND:20260426T040700Z
LOCATION:
SUMMARY:SABADO NA HOT
DESCRIPTION:\nhttps://hothousesp.com.br/events/sabado-na-hot-53/
URL:https://hothousesp.com.br/events/sabado-na-hot-53/
END:VEVENT
END:VCALENDAR